BEGIN:VCALENDAR
VERSION:2.0
PRODID:-//IBDE - ECPv6.15.3//NONSGML v1.0//EN
CALSCALE:GREGORIAN
METHOD:PUBLISH
X-WR-CALNAME:IBDE
X-ORIGINAL-URL:https://institutoibde.com.br
X-WR-CALDESC:Eventos para IBDE
REFRESH-INTERVAL;VALUE=DURATION:PT1H
X-Robots-Tag:noindex
X-PUBLISHED-TTL:PT1H
BEGIN:VTIMEZONE
TZID:America/Sao_Paulo
BEGIN:STANDARD
TZOFFSETFROM:-0200
TZOFFSETTO:-0300
TZNAME:-03
DTSTART:20180218T020000
END:STANDARD
BEGIN:DAYLIGHT
TZOFFSETFROM:-0300
TZOFFSETTO:-0200
TZNAME:-02
DTSTART:20181104T030000
END:DAYLIGHT
BEGIN:STANDARD
TZOFFSETFROM:-0200
TZOFFSETTO:-0300
TZNAME:-03
DTSTART:20190217T020000
END:STANDARD
END:VTIMEZONE
BEGIN:VEVENT
DTSTART;TZID=America/Sao_Paulo:20200101T080000
DTEND;TZID=America/Sao_Paulo:20200101T170000
DTSTAMP:20260425T201404
CREATED:20200520T183338Z
LAST-MODIFIED:20201203T185200Z
UID:2262-1577865600-1577898000@institutoibde.com.br
SUMMARY:I Seminário para discutir o Clube Empresa e a Recuperação Judicial - 12/12/2019
DESCRIPTION:O primeiro evento brasileiro voltado para o debate da recuperação judicial de clubes esportivos foi um sucesso! Realizado pelo Instituto Brasileiro do Direito da Empresa no dia 12 de dezembro de 2019 no auditório da ES/OAB-RJ com a presença de 65 participantes. \n 
URL:https://institutoibde.com.br/evento/i-seminario-para-discutir-o-clube-empresa-e-a-recuperacao-judicial/
CATEGORIES:Eventos,Eventos Anteriores
ATTACH;FMTTYPE=image/jpeg:https://institutoibde.com.br/wp-content/uploads/2020/05/78434189_424695151774253_2457044210428149760_n.jpg
END:VEVENT
BEGIN:VEVENT
DTSTART;TZID=America/Sao_Paulo:20200101T080000
DTEND;TZID=America/Sao_Paulo:20200101T170000
DTSTAMP:20260425T201404
CREATED:20200428T210924Z
LAST-MODIFIED:20201203T185200Z
UID:2028-1577865600-1577898000@institutoibde.com.br
SUMMARY:I Seminário de Direito da Insolvência no Estado de Espírito Santo - 19/11/2019
DESCRIPTION:O I Seminário de Direito da Insolvência no Estado de Espírito Santo\, foi realizado 19 de novembro de 2019 em Vitória. Em um único dia\, palestras com diversos especialistas da área. \nConfira as fotos do evento:  \n                             \n 
URL:https://institutoibde.com.br/evento/i-seminario-de-direito-da-insolvencia-no-estado-de-espirito-santo-album-de-fotos/
CATEGORIES:Eventos,Eventos Anteriores
ATTACH;FMTTYPE=image/jpeg:https://institutoibde.com.br/wp-content/uploads/2020/04/44308439_174704126773358_4774436193427259392_o.jpg
END:VEVENT
BEGIN:VEVENT
DTSTART;TZID=America/Sao_Paulo:20200101T080000
DTEND;TZID=America/Sao_Paulo:20200101T170000
DTSTAMP:20260425T201404
CREATED:20200428T204815Z
LAST-MODIFIED:20201203T185200Z
UID:2018-1577865600-1577898000@institutoibde.com.br
SUMMARY:I Congresso Luso-Brasileiro - 01/10/2019 - 03/10/2019
DESCRIPTION:Depois do sucesso da 1ª edição do Congresso Luso-Brasileiro de Direito da Empresa\, o IBDE\, em parceria com a IJLB\, está preparando a próxima edição que será realizada em 2021! \nO evento tem como intuito mostrar a visão Luso-brasileira de questões atuais do direito da empresa e proporcionar a comunidade jurídica um debate sobre o ramo. \nNo I Congresso Luso-Brasileiro de Direito da Empresa\, que foi realizado nos dias 1\, 2 e 3 de outubro de 2019\, em Porto – PT\, contou com a participação de 16 Ministros do STJ\, além da presença de destaque do Ministro do STF\, Marco Aurélio Mello\, que abordou a atividade econômica e empresarial. \nAproveite e não perca a oportunidade de trocar experiências e conhecer grandes nomes do direito. Em breve mais informações sobre a segunda edição. \nConfira as fotos do grande evento realizado em Porto/PT:  \n 
URL:https://institutoibde.com.br/evento/i-congresso-luso-brasileiro-album-de-fotos/
CATEGORIES:Eventos,Eventos Anteriores
ATTACH;FMTTYPE=image/png:https://institutoibde.com.br/wp-content/uploads/2020/04/Você-já-pode-fazer-sua-inscrição_POST_IBDE_2019_aprovação01.png
END:VEVENT
BEGIN:VEVENT
DTSTART;VALUE=DATE:20191001
DTEND;VALUE=DATE:20191004
DTSTAMP:20260425T201404
CREATED:20200124T224445Z
LAST-MODIFIED:20201203T185200Z
UID:673-1569888000-1570147199@institutoibde.com.br
SUMMARY:I CONGRESSO LUSO BRASILEIRO DE DIREITO DA EMPRESA
DESCRIPTION:
URL:https://institutoibde.com.br/evento/i-congresso-luso-brasileiro-de-direito-da-empresa/
LOCATION:Fundação Dr. António Cupertino de Miranda\, Porto\, Portugal
ATTACH;FMTTYPE=image/png:https://institutoibde.com.br/wp-content/uploads/2019/12/Slider-4-1.png
END:VEVENT
BEGIN:VEVENT
DTSTART;VALUE=DATE:20190928
DTEND;VALUE=DATE:20190929
DTSTAMP:20260425T201404
CREATED:20200124T225843Z
LAST-MODIFIED:20201203T185200Z
UID:685-1569628800-1569715199@institutoibde.com.br
SUMMARY:IV Seminário de Direito das Empresas em Dificuldade
DESCRIPTION:
URL:https://institutoibde.com.br/evento/iv-seminario-de-direito-das-empresas-em-dificuldade/
ATTACH;FMTTYPE=image/jpeg:https://institutoibde.com.br/wp-content/uploads/2019/12/helloquence-5fNmWej4tAA-unsplash-scaled.jpg
END:VEVENT
BEGIN:VEVENT
DTSTART;VALUE=DATE:20181119
DTEND;VALUE=DATE:20181120
DTSTAMP:20260425T201404
CREATED:20200124T230128Z
LAST-MODIFIED:20201203T185200Z
UID:687-1542585600-1542671999@institutoibde.com.br
SUMMARY:I SEMINÁRIO DE DIREITO DA INSOLVÊNCIA DO ESTADO DO ESPÍRITO SANTO
DESCRIPTION:
URL:https://institutoibde.com.br/evento/i-seminario-de-direito-da-insolvencia-do-estado-do-espirito-santo/
ATTACH;FMTTYPE=image/png:https://institutoibde.com.br/wp-content/uploads/2020/01/Logo-Final-white-cópia.png
END:VEVENT
END:VCALENDAR